BEGIN:VCALENDAR
VERSION:2.0
CALSCALE:GREGORIAN
PRODID:-//Diputació de Barcelona//DibaCMS//EN
BEGIN:VEVENT
UID:9152
DTSTAMP:20260420T105748
DTSTART:20200221T230000
DTEND:20200222T020000
SUMMARY:Ball de Carnaval
LOCATION:
METHOD:PUBLISH
X-WR-CALNAME:correu@ajmalgrat.cat
X-WR-TIMEZONE:Europe/Madrid
DESCRIPTION:
URI:https://www.ajmalgrat.cat/comunicacio/historic-agenda/ball-de-carnaval.html
CLASS:PUBLIC
END:VEVENT
END:VCALENDAR
