BEGIN:VCALENDAR
VERSION:2.0
CALSCALE:GREGORIAN
PRODID:-//Diputació de Barcelona//DibaCMS//EN
BEGIN:VEVENT
UID:2607
DTSTAMP:20260421T102039
DTSTART:20191202T000000
DTEND:20191204T000000
SUMMARY:Acte de prova
LOCATION:Carrer del Carme, 30 08380 Malgrat de Mar
METHOD:PUBLISH
X-WR-CALNAME:correu@ajmalgrat.cat
X-WR-TIMEZONE:Europe/Madrid
DESCRIPTION:TExt introductori

URI:https://www.ajmalgrat.cat//continguts//acte-de-prova.html
CLASS:PUBLIC
END:VEVENT
END:VCALENDAR
