BEGIN:VCALENDAR
VERSION:2.0
CALSCALE:GREGORIAN
PRODID:-//Diputació de Barcelona//DibaCMS//EN
BEGIN:VEVENT
UID:16838
DTSTAMP:20260425T160838
DTSTART:20260426T100000
DTEND:20260426T200000
SUMMARY:Actes commemoratius 25 anys Ciutat Pubilla de la Sardana 
LOCATION:
METHOD:PUBLISH
X-WR-CALNAME:correu@ajmalgrat.cat
X-WR-TIMEZONE:Europe/Madrid
DESCRIPTION:L'Agrupació Sardanista Malgratenca La Barretina organitza els actes commemoratius de la proclamació de Malgrat de Mar com a Ciutat Pubilla de la Sardana l'any 2001.

URI:https://www.ajmalgrat.cat/comunicacio/historic-agenda/actes-commemoratius-25-anys-ciutat-pubilla-de-la-sardana-.html
CLASS:PUBLIC
END:VEVENT
END:VCALENDAR
