BEGIN:VCALENDAR
VERSION:2.0
CALSCALE:GREGORIAN
PRODID:-//Diputació de Barcelona//DibaCMS//EN
BEGIN:VEVENT
UID:16826
DTSTAMP:20260425T160540
DTSTART:20260426T110000
DTEND:20260426T210000
SUMMARY:MalgrART
LOCATION:
METHOD:PUBLISH
X-WR-CALNAME:correu@ajmalgrat.cat
X-WR-TIMEZONE:Europe/Madrid
DESCRIPTION:El programa d'activitats ofereix diferents actes al llarg del dia. 

URI:https://www.ajmalgrat.cat/comunicacio/historic-agenda/16826-malgrart.html
CLASS:PUBLIC
END:VEVENT
END:VCALENDAR
