BEGIN:VCALENDAR
VERSION:2.0
CALSCALE:GREGORIAN
PRODID:-//Diputació de Barcelona//DibaCMS//EN
BEGIN:VEVENT
UID:16825
DTSTAMP:20260425T155931
DTSTART:20260425T090000
DTEND:20260425T220000
SUMMARY:MalgrART
LOCATION:
METHOD:PUBLISH
X-WR-CALNAME:correu@ajmalgrat.cat
X-WR-TIMEZONE:Europe/Madrid
DESCRIPTION:El programa de MalgrART ofereix diferents activitats que es portaran a terme al llarg del dia. 

URI:https://www.ajmalgrat.cat/comunicacio/historic-agenda/16825-malgrart.html
CLASS:PUBLIC
END:VEVENT
END:VCALENDAR
