BEGIN:VCALENDAR
VERSION:2.0
CALSCALE:GREGORIAN
PRODID:-//Diputació de Barcelona//DibaCMS//EN
BEGIN:VEVENT
UID:16823
DTSTAMP:20260422T153619
DTSTART:20260424T173000
DTEND:20260424T233000
SUMMARY: Concert Coral 
LOCATION:
METHOD:PUBLISH
X-WR-CALNAME:correu@ajmalgrat.cat
X-WR-TIMEZONE:Europe/Madrid
DESCRIPTION:La Coral Atzavara ofereix un Concert Coral dins el programa de MalgrART a partir de les 18 h a la Sala Joaquim Garriga de l'Arxiu Municipal. 

URI:https://www.ajmalgrat.cat/comunicacio/historic-agenda/-concert-coral-.html
CLASS:PUBLIC
END:VEVENT
END:VCALENDAR
