BEGIN:VCALENDAR
VERSION:2.0
CALSCALE:GREGORIAN
PRODID:-//Diputació de Barcelona//DibaCMS//EN
BEGIN:VEVENT
UID:16564
DTSTAMP:20260420T145903
DTSTART:20260227T163000
DTEND:20260227T203000
SUMMARY:Outlet d'Hivern 
LOCATION:Peixateries Velles  
METHOD:PUBLISH
X-WR-CALNAME:correu@ajmalgrat.cat
X-WR-TIMEZONE:Europe/Madrid
DESCRIPTION:
URI:https://www.ajmalgrat.cat/comunicacio/historic-agenda/outlet-dhivern-.html
CLASS:PUBLIC
END:VEVENT
END:VCALENDAR
