BEGIN:VCALENDAR
VERSION:2.0
CALSCALE:GREGORIAN
PRODID:-//Diputació de Barcelona//DibaCMS//EN
BEGIN:VEVENT
UID:16559
DTSTAMP:20260420T150422
DTSTART:20260227T190000
DTEND:20260228T000000
SUMMARY:Projecció documental: "Aconcagua 2004. Gossos a la muntanya"
LOCATION:Local del Grup Excursionista Malgratenc (GEM) 
METHOD:PUBLISH
X-WR-CALNAME:correu@ajmalgrat.cat
X-WR-TIMEZONE:Europe/Madrid
DESCRIPTION:El Grup Excursionista Malgratenc (GEM) organitza una sessió per projectar el documental "Aconcagua 2004. Gossos a la muntanya" a les set de la tarda al seu local social. Per assistir-hi al fer una inscripció prèvia.  L'ensinistrador caní i membre de l'expedició Ramon Torralba oferirà una xerrada després de la projecció. 

URI:https://www.ajmalgrat.cat/comunicacio/historic-agenda/projeccio-documental-aconcagua-2004-gossos-a-la-muntanya.html
CLASS:PUBLIC
END:VEVENT
END:VCALENDAR
