BEGIN:VCALENDAR
VERSION:2.0
CALSCALE:GREGORIAN
PRODID:-//Diputació de Barcelona//DibaCMS//EN
BEGIN:VEVENT
UID:16558
DTSTAMP:20260420T150339
DTSTART:20260220T180000
DTEND:20260221T000000
SUMMARY:Dia Internacional de la Llengua Materna 
LOCATION:
METHOD:PUBLISH
X-WR-CALNAME:correu@ajmalgrat.cat
X-WR-TIMEZONE:Europe/Madrid
DESCRIPTION:La Comissió de Llengua i Literatura de Malgrat organitza el Dia Internacional del la Llengua Materna. Els actes començaran a les sis de la tarda amb l'activitat "Juga amb la llengua" a la Biblioteca La Cooperativa. A partir de les set de la tarda a les Peixateries Velles es farà el "Músiques i mots del món" amb xocolata. 

URI:https://www.ajmalgrat.cat/comunicacio/historic-agenda/dia-internacional-de-la-llengua-materna-.html
CLASS:PUBLIC
END:VEVENT
END:VCALENDAR
