BEGIN:VCALENDAR
VERSION:2.0
CALSCALE:GREGORIAN
PRODID:-//Diputació de Barcelona//DibaCMS//EN
BEGIN:VEVENT
UID:16507
DTSTAMP:20260421T130504
DTSTART:20260210T170000
DTEND:20260210T210000
SUMMARY:Campanya de donació de plasma 
LOCATION:Carrer de Mar 63 08380 Malgrat de Mar
METHOD:PUBLISH
X-WR-CALNAME:correu@ajmalgrat.cat
X-WR-TIMEZONE:Europe/Madrid
DESCRIPTION:El Banc de Sang i Teixits organitza una nova campanya de donació de plasma a l'Arxiu Municipal des de de les cinc de la tarda i fins a les nou del vespre. 

URI:https://www.ajmalgrat.cat/comunicacio/historic-agenda/campanya-de-donacio-de-plasma-.html
CLASS:PUBLIC
END:VEVENT
END:VCALENDAR
