BEGIN:VCALENDAR
VERSION:2.0
CALSCALE:GREGORIAN
PRODID:-//Diputació de Barcelona//DibaCMS//EN
BEGIN:VEVENT
UID:16501
DTSTAMP:20260420T150821
DTSTART:20260301T183000
DTEND:20260301T203000
SUMMARY:Cicle d'animació japonesa 'Animeclub': "Los niños lobo"
LOCATION:Carrer del Carme, 26 08380 Malgrat de Mar
METHOD:PUBLISH
X-WR-CALNAME:correu@ajmalgrat.cat
X-WR-TIMEZONE:Europe/Madrid
DESCRIPTION:El cicle d'animació japonesa "Animeclub" de l'Ajuntament i el Cineclub Garbí projecta la pel·lícula "Los niños lobo", dirigia per Mamoru Hosoda. La sessió és apta per a tots els públics i començarà a dos quarts de set de la tarda. 

URI:https://www.ajmalgrat.cat/comunicacio/historic-agenda/cicle-danimacio-japonesa-animeclub-los-ninos-lobo.html
CLASS:PUBLIC
END:VEVENT
END:VCALENDAR
