BEGIN:VCALENDAR
VERSION:2.0
CALSCALE:GREGORIAN
PRODID:-//Diputació de Barcelona//DibaCMS//EN
BEGIN:VEVENT
UID:16496
DTSTAMP:20260420T150016
DTSTART:20260214T120000
DTEND:20260214T133000
SUMMARY:Presentació de llibre
LOCATION:Carrer Desclapers, 14-18 08380 Malgrat de Mar
METHOD:PUBLISH
X-WR-CALNAME:correu@ajmalgrat.cat
X-WR-TIMEZONE:Europe/Madrid
DESCRIPTION:La Biblioteca La Cooperativa organitza la presentació del llibre "Soledades que abrazan" amb la presència de la seva autora Kima Bigas Güell. L'acte començarà a les dotze del migdia. 

URI:https://www.ajmalgrat.cat/comunicacio/historic-agenda/16496-presentacio-de-llibre.html
CLASS:PUBLIC
END:VEVENT
END:VCALENDAR
