BEGIN:VCALENDAR
VERSION:2.0
CALSCALE:GREGORIAN
PRODID:-//Diputació de Barcelona//DibaCMS//EN
BEGIN:VEVENT
UID:16178
DTSTAMP:20260420T150130
DTSTART:20260222T180000
DTEND:20260222T203000
SUMMARY:25è Concurs de Teatre: "Fitzroy"
LOCATION:Carrer del Carme, 26 08380 Malgrat de Mar
METHOD:PUBLISH
X-WR-CALNAME:correu@ajmalgrat.cat
X-WR-TIMEZONE:Europe/Madrid
DESCRIPTION:El 25è Concurs de Teatre Vicenç Bayarri i Miralles, organitzat pel Grup Germanor, oferirà l'obra "Fitzroy" de Jordi Galceran a càrrec de Kòmix GT de La Garriga. La sessió teatrel començarà a les sis de la tarda al Centre Cultural. 

URI:https://www.ajmalgrat.cat/comunicacio/historic-agenda/25e-concurs-de-teatre-fitzroy.html
CLASS:PUBLIC
END:VEVENT
END:VCALENDAR
