BEGIN:VCALENDAR
VERSION:2.0
CALSCALE:GREGORIAN
PRODID:-//Diputació de Barcelona//DibaCMS//EN
BEGIN:VEVENT
UID:16177
DTSTAMP:20260426T023653
DTSTART:20260208T180000
DTEND:20260208T200000
SUMMARY:25è Concurs de Teatre: "El súper"
LOCATION:Carrer del Carme, 26 08380 Malgrat de Mar
METHOD:PUBLISH
X-WR-CALNAME:correu@ajmalgrat.cat
X-WR-TIMEZONE:Europe/Madrid
DESCRIPTION:El 25è Concurs de Teatre Vicenç Bayarri i Miralles, organitzat pel Grup Germanor, oferirà l'obra "El súper" de Rosa Ponsarnau i José Antonio Aguado a càrrec de la Companyia 8 de Terrassa. La sessió teatral començarà a les sis de la tarda al Centre Cultural. 

URI:https://www.ajmalgrat.cat/comunicacio/historic-agenda/25e-concurs-de-teatre-el-super.html
CLASS:PUBLIC
END:VEVENT
END:VCALENDAR
