BEGIN:VCALENDAR
VERSION:2.0
CALSCALE:GREGORIAN
PRODID:-//Diputació de Barcelona//DibaCMS//EN
BEGIN:VEVENT
UID:15944
DTSTAMP:20260421T114613
DTSTART:20250719T180000
DTEND:20250720T003000
SUMMARY:Festes de Malgrat Nord
LOCATION:Davant del Pavelló Germans Margall  
METHOD:PUBLISH
X-WR-CALNAME:correu@ajmalgrat.cat
X-WR-TIMEZONE:Europe/Madrid
DESCRIPTION:L'Associació de Veïns de Llevant enllesteix l'organització de la festa de Malgrat Nord, que començarà a les sis de la tarda i s'allargarà fins la nit. Els actes es faran davant del Pavelló Germans Margall. 

URI:https://www.ajmalgrat.cat/comunicacio/historic-agenda/15944-festes-de-malgrat-nord.html
CLASS:PUBLIC
END:VEVENT
END:VCALENDAR
