BEGIN:VCALENDAR
VERSION:2.0
CALSCALE:GREGORIAN
PRODID:-//Diputació de Barcelona//DibaCMS//EN
BEGIN:VEVENT
UID:15342
DTSTAMP:20260420T150254
DTSTART:20241214T110000
DTEND:20241214T123000
SUMMARY:Festival de titelles FesTim!: "Circoland"
LOCATION:Plaça de Josep Anselm Clavé  
METHOD:PUBLISH
X-WR-CALNAME:correu@ajmalgrat.cat
X-WR-TIMEZONE:Europe/Madrid
DESCRIPTION:El Festival de Titelles FesTim! ofereix l'espectacle "Circoland" amb La Sola Cia a partir de les onze del matí a la plaça de Josep Anselm Clavé. 

URI:https://www.ajmalgrat.cat/comunicacio/historic-agenda/festival-de-titelles-festim-circoland.html
CLASS:PUBLIC
END:VEVENT
END:VCALENDAR
