BEGIN:VCALENDAR
VERSION:2.0
CALSCALE:GREGORIAN
PRODID:-//Diputació de Barcelona//DibaCMS//EN
BEGIN:VEVENT
UID:14933
DTSTAMP:20260421T133835
DTSTART:20240811T100000
DTEND:20240811T120000
SUMMARY:Festa Major Sant Roc 2024 - Trobada Motor Antic
LOCATION:
METHOD:PUBLISH
X-WR-CALNAME:correu@ajmalgrat.cat
X-WR-TIMEZONE:Europe/Madrid
DESCRIPTION:
URI:https://www.ajmalgrat.cat/ajuntament/alcaldessa/agenda-de-lalcaldessa/festa-major-sant-roc-2024-trobada-motor-antic.html
CLASS:PUBLIC
END:VEVENT
END:VCALENDAR
