BEGIN:VCALENDAR
VERSION:2.0
CALSCALE:GREGORIAN
PRODID:-//Diputació de Barcelona//DibaCMS//EN
BEGIN:VEVENT
UID:14927
DTSTAMP:20260421T114715
DTSTART:20240811T080000
DTEND:20240811T120000
SUMMARY:Festa Major Sant Roc 2024 - Matinades Geganters
LOCATION:
METHOD:PUBLISH
X-WR-CALNAME:correu@ajmalgrat.cat
X-WR-TIMEZONE:Europe/Madrid
DESCRIPTION:
URI:https://www.ajmalgrat.cat/ajuntament/alcaldessa/agenda-de-lalcaldessa/festa-major-sant-roc-2024-matinades-geganters.html
CLASS:PUBLIC
END:VEVENT
END:VCALENDAR
