BEGIN:VCALENDAR
VERSION:2.0
CALSCALE:GREGORIAN
PRODID:-//Diputació de Barcelona//DibaCMS//EN
BEGIN:VEVENT
UID:14803
DTSTAMP:20260421T221915
DTSTART:20240720T203000
DTEND:20240720T213000
SUMMARY:Festes Barri Malgrat Nord
LOCATION:
METHOD:PUBLISH
X-WR-CALNAME:correu@ajmalgrat.cat
X-WR-TIMEZONE:Europe/Madrid
DESCRIPTION:
URI:https://www.ajmalgrat.cat/ajuntament/alcaldessa/agenda-de-lalcaldessa/festes-barri-malgrat-nord.html
CLASS:PUBLIC
END:VEVENT
END:VCALENDAR
