BEGIN:VCALENDAR
VERSION:2.0
CALSCALE:GREGORIAN
PRODID:-//Diputació de Barcelona//DibaCMS//EN
BEGIN:VEVENT
UID:14739
DTSTAMP:20260421T114643
DTSTART:20240702T100000
DTEND:20240702T110000
SUMMARY:Coordinació Regidoria d’Habitatge
LOCATION:
METHOD:PUBLISH
X-WR-CALNAME:correu@ajmalgrat.cat
X-WR-TIMEZONE:Europe/Madrid
DESCRIPTION:
URI:https://www.ajmalgrat.cat//continguts//14739-coordinacio-regidoria-dhabitatge.html
CLASS:PUBLIC
END:VEVENT
END:VCALENDAR
