BEGIN:VCALENDAR
VERSION:2.0
CALSCALE:GREGORIAN
PRODID:-//Diputació de Barcelona//DibaCMS//EN
BEGIN:VEVENT
UID:14464
DTSTAMP:20260425T052237
DTSTART:20240518T183000
DTEND:20240518T230000
SUMMARY:Shopping Night 2024 10è Aniversari
LOCATION:
METHOD:PUBLISH
X-WR-CALNAME:correu@ajmalgrat.cat
X-WR-TIMEZONE:Europe/Madrid
DESCRIPTION:
URI:https://www.ajmalgrat.cat/ajuntament/alcaldessa/agenda-de-lalcaldessa/shopping-night-2024-10e-aniversari.html
CLASS:PUBLIC
END:VEVENT
END:VCALENDAR
