BEGIN:VCALENDAR
VERSION:2.0
CALSCALE:GREGORIAN
PRODID:-//Diputació de Barcelona//DibaCMS//EN
BEGIN:VEVENT
UID:14430
DTSTAMP:20260421T130640
DTSTART:20240517T093000
DTEND:20240517T100000
SUMMARY:Reunió de coordinació amb Serveis Informàtics
LOCATION:
METHOD:PUBLISH
X-WR-CALNAME:correu@ajmalgrat.cat
X-WR-TIMEZONE:Europe/Madrid
DESCRIPTION:
URI:https://www.ajmalgrat.cat//continguts//14430-reunio-de-coordinacio-amb-serveis-informatics.html
CLASS:PUBLIC
END:VEVENT
END:VCALENDAR
