BEGIN:VCALENDAR
VERSION:2.0
CALSCALE:GREGORIAN
PRODID:-//Diputació de Barcelona//DibaCMS//EN
BEGIN:VEVENT
UID:14140
DTSTAMP:20260420T112208
DTSTART:20240405T113000
DTEND:20240405T133000
SUMMARY:Visita ajuntament de Tordera als SUDs
LOCATION:
METHOD:PUBLISH
X-WR-CALNAME:correu@ajmalgrat.cat
X-WR-TIMEZONE:Europe/Madrid
DESCRIPTION:
URI:https://www.ajmalgrat.cat/ajuntament/alcaldessa/agenda-de-lalcaldessa/visita-ajuntament-de-tordera-als-suds.html
CLASS:PUBLIC
END:VEVENT
END:VCALENDAR
