BEGIN:VCALENDAR
VERSION:2.0
CALSCALE:GREGORIAN
PRODID:-//Diputació de Barcelona//DibaCMS//EN
BEGIN:VEVENT
UID:13953
DTSTAMP:20260425T023701
DTSTART:20240301T170000
DTEND:20240301T180000
SUMMARY:Outlet d'hivern
LOCATION:
METHOD:PUBLISH
X-WR-CALNAME:correu@ajmalgrat.cat
X-WR-TIMEZONE:Europe/Madrid
DESCRIPTION:
URI:https://www.ajmalgrat.cat/ajuntament/alcaldessa/agenda-de-lalcaldessa/outlet-dhivern.html
CLASS:PUBLIC
END:VEVENT
END:VCALENDAR
