BEGIN:VCALENDAR
VERSION:2.0
CALSCALE:GREGORIAN
PRODID:-//Diputació de Barcelona//DibaCMS//EN
BEGIN:VEVENT
UID:13453
DTSTAMP:20260421T065030
DTSTART:20231125T183000
DTEND:20231125T185000
SUMMARY:25N: Tabalada
LOCATION:
METHOD:PUBLISH
X-WR-CALNAME:correu@ajmalgrat.cat
X-WR-TIMEZONE:Europe/Madrid
DESCRIPTION:Els actes de commemoració del Dia Internacional per a l'eliminació de la violència contra les dones inclou una tabalada a càrrec dels Mininfernals de la Colla de Diables Ratpenatsinfernals que sortirà a les 18:30 h de la plaça de l'Església i arribarà fins a la Torre de la Vídua de Can Sala. 

URI:https://www.ajmalgrat.cat/comunicacio/historic-agenda/25n-tabalada.html
CLASS:PUBLIC
END:VEVENT
END:VCALENDAR
