BEGIN:VCALENDAR
VERSION:2.0
CALSCALE:GREGORIAN
PRODID:-//Diputació de Barcelona//DibaCMS//EN
BEGIN:VEVENT
UID:12920
DTSTAMP:20260423T170148
DTSTART:20230617T120000
DTEND:20230617T130000
SUMMARY:Ple de constitució de l'Ajuntament mandat 2023-27
LOCATION:
METHOD:PUBLISH
X-WR-CALNAME:correu@ajmalgrat.cat
X-WR-TIMEZONE:Europe/Madrid
DESCRIPTION:
URI:https://www.ajmalgrat.cat/ajuntament/alcaldessa/agenda-de-lalcaldessa/ple-de-constitucio-de-lajuntament-mandat-2023-27.html
CLASS:PUBLIC
END:VEVENT
END:VCALENDAR
