BEGIN:VCALENDAR
VERSION:2.0
CALSCALE:GREGORIAN
PRODID:-//Diputació de Barcelona//DibaCMS//EN
BEGIN:VEVENT
UID:12056
DTSTAMP:20260425T172153
DTSTART:20221213T143000
DTEND:20221213T143000
SUMMARY:Junta de Portaveus
LOCATION:
METHOD:PUBLISH
X-WR-CALNAME:correu@ajmalgrat.cat
X-WR-TIMEZONE:Europe/Madrid
DESCRIPTION:
URI:https://www.ajmalgrat.cat/ajuntament/alcaldessa/agenda-de-lalcaldessa/12056-junta-de-portaveus.html
CLASS:PUBLIC
END:VEVENT
END:VCALENDAR
