BEGIN:VCALENDAR
VERSION:2.0
CALSCALE:GREGORIAN
PRODID:-//Diputació de Barcelona//DibaCMS//EN
BEGIN:VEVENT
UID:11856
DTSTAMP:20260426T052914
DTSTART:20220929T150000
DTEND:20220929T150000
SUMMARY:Reunió amb entitat cultural
LOCATION:
METHOD:PUBLISH
X-WR-CALNAME:correu@ajmalgrat.cat
X-WR-TIMEZONE:Europe/Madrid
DESCRIPTION:
URI:https://www.ajmalgrat.cat/ajuntament/alcaldessa/agenda-de-lalcaldessa/reunio-amb-entitat-cultural.html
CLASS:PUBLIC
END:VEVENT
END:VCALENDAR
