BEGIN:VCALENDAR
VERSION:2.0
CALSCALE:GREGORIAN
PRODID:-//Diputació de Barcelona//DibaCMS//EN
BEGIN:VEVENT
UID:11687
DTSTAMP:20260420T133723
DTSTART:20220809T210000
DTEND:20220809T230000
SUMMARY:Festa Major St Roc: Exhibició de ball en línia
LOCATION:
METHOD:PUBLISH
X-WR-CALNAME:correu@ajmalgrat.cat
X-WR-TIMEZONE:Europe/Madrid
DESCRIPTION:L'Associació de Veïns de La Verneda organitza una exhibició de ball en línia al Parc Francesc Macià a partir de les 21 h. 

URI:https://www.ajmalgrat.cat/comunicacio/historic-agenda/festa-major-st-roc-exhibicio-de-ball-en-linia.html
CLASS:PUBLIC
END:VEVENT
END:VCALENDAR
