BEGIN:VCALENDAR
VERSION:2.0
CALSCALE:GREGORIAN
PRODID:-//Diputació de Barcelona//DibaCMS//EN
BEGIN:VEVENT
UID:11686
DTSTAMP:20260420T150027
DTSTART:20220809T200000
DTEND:20220809T220000
SUMMARY:Festa Major de St Roc: Tarda de Jocs de Taula Moderns 
LOCATION:
METHOD:PUBLISH
X-WR-CALNAME:correu@ajmalgrat.cat
X-WR-TIMEZONE:Europe/Madrid
DESCRIPTION:La Comissió de Festes organitza una tarda de jocs de taula moderns a partir de les 20 h a les Peixateries Velles. 

URI:https://www.ajmalgrat.cat/comunicacio/historic-agenda/festa-major-de-st-roc-tarda-de-jocs-de-taula-moderns-.html
CLASS:PUBLIC
END:VEVENT
END:VCALENDAR
