BEGIN:VCALENDAR
VERSION:2.0
CALSCALE:GREGORIAN
PRODID:-//Diputació de Barcelona//DibaCMS//EN
BEGIN:VEVENT
UID:11684
DTSTAMP:20260420T133618
DTSTART:20220808T213000
DTEND:20220809T010000
SUMMARY:Festa Major St Roc: Cinema a la fresca
LOCATION:
METHOD:PUBLISH
X-WR-CALNAME:correu@ajmalgrat.cat
X-WR-TIMEZONE:Europe/Madrid
DESCRIPTION:Doble sessió de cinema a la fresca al Parc de Can Campassol amb la projecció de les pel·lícules "Spirit: el cavall indomable" a les 21:30 h i "L'espia honest" a les 23:10 h..

URI:https://www.ajmalgrat.cat/comunicacio/historic-agenda/festa-major-st-roc-cinema-a-la-fresca.html
CLASS:PUBLIC
END:VEVENT
END:VCALENDAR
