BEGIN:VCALENDAR
VERSION:2.0
CALSCALE:GREGORIAN
PRODID:-//Diputació de Barcelona//DibaCMS//EN
BEGIN:VEVENT
UID:11678
DTSTAMP:20260420T162613
DTSTART:20220808T180000
DTEND:20220808T210000
SUMMARY:Festa Major St Roc: EnROCada
LOCATION:
METHOD:PUBLISH
X-WR-CALNAME:correu@ajmalgrat.cat
X-WR-TIMEZONE:Europe/Madrid
DESCRIPTION:La Comissió de Festes organitza una gimanca "EnROCada" en la qual hi haurà una competició per equips per fer front a deu proves. Serà a partir de les 18 h a la plaça de Xesco Boix. Les inscripcions s'han de fer a entrapolis.com Hi haurà premis per a cadascun dels participants de l'equip guanyador de la prova final. 

URI:https://www.ajmalgrat.cat/comunicacio/historic-agenda/festa-major-st-roc-enrocada.html
CLASS:PUBLIC
END:VEVENT
END:VCALENDAR
