BEGIN:VCALENDAR
VERSION:2.0
CALSCALE:GREGORIAN
PRODID:-//Diputació de Barcelona//DibaCMS//EN
BEGIN:VEVENT
UID:11677
DTSTAMP:20260420T133650
DTSTART:20220808T123000
DTEND:20220815T210000
SUMMARY:Festa Major St Roc: 22è Open Herberg
LOCATION:
METHOD:PUBLISH
X-WR-CALNAME:correu@ajmalgrat.cat
X-WR-TIMEZONE:Europe/Madrid
DESCRIPTION:El Club Tennis Malgrat organitza la 22a edició de l'Open Herberg  amb categories benjamí, aleví, infantil, cadet i absolut des del dia 8 i fins al 15 d'agost. Els partits se celebraran a partir de les 12:30 h al Club Tennis Malgrat. 

URI:https://www.ajmalgrat.cat/comunicacio/historic-agenda/festa-major-st-roc-22e-open-herberg.html
CLASS:PUBLIC
END:VEVENT
END:VCALENDAR
