BEGIN:VCALENDAR
VERSION:2.0
CALSCALE:GREGORIAN
PRODID:-//Diputació de Barcelona//DibaCMS//EN
BEGIN:VEVENT
UID:11676
DTSTAMP:20260420T150145
DTSTART:20220807T220000
DTEND:20220808T003000
SUMMARY:Festa Major St Roc: 38a Cantada d'havaneres
LOCATION:
METHOD:PUBLISH
X-WR-CALNAME:correu@ajmalgrat.cat
X-WR-TIMEZONE:Europe/Madrid
DESCRIPTION:38a edició de la Cantada d'Havaneres amb l'actuació dels grups Boira, Neus Mar i Els Cremats a partir de les 22 h a la plaça de Xesco Boix. Hi haurà rom cremat, preparat per la família Privat i repartit per l'Agrupació Sardanista Malgratenca La Barretina. 

URI:https://www.ajmalgrat.cat/comunicacio/historic-agenda/festa-major-st-roc-38a-cantada-dhavaneres.html
CLASS:PUBLIC
END:VEVENT
END:VCALENDAR
