BEGIN:VCALENDAR
VERSION:2.0
CALSCALE:GREGORIAN
PRODID:-//Diputació de Barcelona//DibaCMS//EN
BEGIN:VEVENT
UID:11675
DTSTAMP:20260420T175615
DTSTART:20220807T160000
DTEND:20220807T200000
SUMMARY:Festa major St Roc: Torneig de botifarra
LOCATION:
METHOD:PUBLISH
X-WR-CALNAME:correu@ajmalgrat.cat
X-WR-TIMEZONE:Europe/Madrid
DESCRIPTION:La SCR La Barretina Vermella organitza el torneig de botifarra "Fesol del ganxet" a la plaça de Josep Anselm Clavé i els seus voltants a partir de les 16 h. 

URI:https://www.ajmalgrat.cat/comunicacio/historic-agenda/festa-major-st-roc-torneig-de-botifarra.html
CLASS:PUBLIC
END:VEVENT
END:VCALENDAR
