BEGIN:VCALENDAR
VERSION:2.0
CALSCALE:GREGORIAN
PRODID:-//Diputació de Barcelona//DibaCMS//EN
BEGIN:VEVENT
UID:11489
DTSTAMP:20260420T123243
DTSTART:20220521T180000
DTEND:20220522T003000
SUMMARY:Shopping Night
LOCATION:
METHOD:PUBLISH
X-WR-CALNAME:correu@ajmalgrat.cat
X-WR-TIMEZONE:Europe/Madrid
DESCRIPTION:L'Àrea de Promoció del Municipi amb l'Associació de Comerciants oferirà la vuitena edició de la 'Shopping Night' amb desfilada a Can Campassol, flaixos de moda a les botigues i espai gastronòmic amb actuació musical en directe.

URI:https://www.ajmalgrat.cat/comunicacio/historic-agenda/shopping-night.html
CLASS:PUBLIC
END:VEVENT
END:VCALENDAR
