BEGIN:VCALENDAR
VERSION:2.0
CALSCALE:GREGORIAN
PRODID:-//Diputació de Barcelona//DibaCMS//EN
BEGIN:VEVENT
UID:11443
DTSTAMP:20260420T023336
DTSTART:20220430T193000
DTEND:20220430T213000
SUMMARY:Bestiari
LOCATION:
METHOD:PUBLISH
X-WR-CALNAME:correu@ajmalgrat.cat
X-WR-TIMEZONE:Europe/Madrid
DESCRIPTION:La Colla de Diables Ratpenatsinfernals oferirà dins el programa de MalgrART el bestiari. A partir de les 19:30 h hi haurà la plantada del bestiari al Parc de Can Campassol. A partir de les 20 h, es farà la cercavila des del Parc de Can Campassol per carrer de Sant Esteve fins a la plaça de l'Àncora. 

URI:https://www.ajmalgrat.cat/comunicacio/historic-agenda/bestiari.html
CLASS:PUBLIC
END:VEVENT
END:VCALENDAR
