BEGIN:VCALENDAR
VERSION:2.0
CALSCALE:GREGORIAN
PRODID:-//Diputació de Barcelona//DibaCMS//EN
BEGIN:VEVENT
UID:11432
DTSTAMP:20260425T163912
DTSTART:20220424T120000
DTEND:20220424T140000
SUMMARY:Exhibició de dansa oriental i Bollywood
LOCATION:
METHOD:PUBLISH
X-WR-CALNAME:correu@ajmalgrat.cat
X-WR-TIMEZONE:Europe/Madrid
DESCRIPTION:L'escola Najma Dansa organitza una exhibició de dansa oriental i Bollywood a partir de les 12 h a les Peixateries Velles. 

URI:https://www.ajmalgrat.cat/comunicacio/historic-agenda/exhibicio-de-dansa-oriental-i-bollywood.html
CLASS:PUBLIC
END:VEVENT
END:VCALENDAR
