BEGIN:VCALENDAR
VERSION:2.0
CALSCALE:GREGORIAN
PRODID:-//Diputació de Barcelona//DibaCMS//EN
BEGIN:VEVENT
UID:11141
DTSTAMP:20260420T133752
DTSTART:20211229T173000
DTEND:20211229T203000
SUMMARY:Nadal 2021: Trenet per a la mainada
LOCATION:
METHOD:PUBLISH
X-WR-CALNAME:correu@ajmalgrat.cat
X-WR-TIMEZONE:Europe/Madrid
DESCRIPTION:L'Àrea de Promoció del Municipi organitza un trenet per a la mainada amb sortida des de la plaça de l'Església des de les 17:30 h i fins a les 20:30 h. 

URI:https://www.ajmalgrat.cat/comunicacio/historic-agenda/nadal-2021-trenet-per-a-la-mainada.html
CLASS:PUBLIC
END:VEVENT
END:VCALENDAR
