BEGIN:VCALENDAR
VERSION:2.0
CALSCALE:GREGORIAN
PRODID:-//Diputació de Barcelona//DibaCMS//EN
BEGIN:VEVENT
UID:11128
DTSTAMP:20260420T150938
DTSTART:20211215T173000
DTEND:20211215T193000
SUMMARY:Club de lectura per a nois i noies d'11 a 14 anys
LOCATION:
METHOD:PUBLISH
X-WR-CALNAME:correu@ajmalgrat.cat
X-WR-TIMEZONE:Europe/Madrid
DESCRIPTION:La Biblioteca La Cooperativa organitza el Club de lectura per a nois i noies d'entre 11 i 14 anys a càrrec d'Ester Pascual. La sessió comença a les 17:30 h i cal inscripció prèvia a la mateixa biblioteca. 

URI:https://www.ajmalgrat.cat/comunicacio/historic-agenda/club-de-lectura-per-a-nois-i-noies-d11-a-14-anys.html
CLASS:PUBLIC
END:VEVENT
END:VCALENDAR
