BEGIN:VCALENDAR
VERSION:2.0
CALSCALE:GREGORIAN
PRODID:-//Diputació de Barcelona//DibaCMS//EN
BEGIN:VEVENT
UID:11109
DTSTAMP:20260421T120727
DTSTART:20211204T223000
DTEND:20211205T021500
SUMMARY:Festa major de Sant Nicolau: Concert Jove Sound Nicolau
LOCATION:
METHOD:PUBLISH
X-WR-CALNAME:correu@ajmalgrat.cat
X-WR-TIMEZONE:Europe/Madrid
DESCRIPTION:La Regidoria de Joventut organitza el concert jove de Sant Nicolau, el Sound Nicolau amb l'actuació dels grups Koers i Marcel i Júlia a partir de les 22.30 h al Pavelló Germans Margall. Per accedir als concerts caldrà presentar el certificat de vacunació COVID-19. L'entrada és gratuïta i s'ha de reservar a entrapolis.com

URI:https://www.ajmalgrat.cat/comunicacio/historic-agenda/festa-major-de-sant-nicolau-concert-jove-sound-nicolau.html
CLASS:PUBLIC
END:VEVENT
END:VCALENDAR
