BEGIN:VCALENDAR
VERSION:2.0
CALSCALE:GREGORIAN
PRODID:-//Diputació de Barcelona//DibaCMS//EN
BEGIN:VEVENT
UID:10808
DTSTAMP:20260422T135014
DTSTART:20210808T100000
DTEND:20210808T130000
SUMMARY:Festa Major Sant Roc: Concurs de cocous i animació infantil
LOCATION:
METHOD:PUBLISH
X-WR-CALNAME:correu@ajmalgrat.cat
X-WR-TIMEZONE:Europe/Madrid
DESCRIPTION:La Colla de Geganters de Malgrat de Mar organitza el 25è Concurs de Cocous i animació infantil a la Platja de Malgrat Centre, davant de la plaça de Xesco Boix, a partir de les 10 h. Cal inscripció prèvia i emportar-se els estris necessaris. 

URI:https://www.ajmalgrat.cat/comunicacio/historic-agenda/festa-major-sant-roc-concurs-de-cocous-i-animacio-infantil.html
CLASS:PUBLIC
END:VEVENT
END:VCALENDAR
