BEGIN:VCALENDAR
VERSION:2.0
CALSCALE:GREGORIAN
PRODID:-//Diputació de Barcelona//DibaCMS//EN
BEGIN:VEVENT
UID:10535
DTSTAMP:20260420T111012
DTSTART:20210627T203000
DTEND:20210627T210000
SUMMARY:28J Dia de l'Alliberament LGTBIQ: Tabalada
LOCATION:
METHOD:PUBLISH
X-WR-CALNAME:correu@ajmalgrat.cat
X-WR-TIMEZONE:Europe/Madrid
DESCRIPTION:Dins els actes del Dia de l'Allibertament LGTBIQ, la Colla de Diables Ratpenatsinfernals oferiran una tabalada als Jardins de la Torre de la Vídua de Can Sala a les 20.30 h.

URI:https://www.ajmalgrat.cat/comunicacio/historic-agenda/28j-dia-de-lalliberament-lgtbiq-tabalada.html
CLASS:PUBLIC
END:VEVENT
END:VCALENDAR
